BEGIN:VCALENDAR
VERSION:2.0
PRODID:-//urbanstudio//ICS Generator//EN
CALSCALE:GREGORIAN
METHOD:PUBLISH
BEGIN:VEVENT
UID:4fddd80d-746b-9c51-8ba4-a3839839d22d
DTSTAMP:20260425T142047Z
SEQUENCE:0
SUMMARY:IND FUJIFILM Healthcare  - FUJIFILM Healthcare Deutschland GmbH: Im
 pulse für die Investition in ein offenes MRT
DTSTART;TZID=Europe/Berlin:20260514T150000
DTEND;TZID=Europe/Berlin:20260514T151500
DESCRIPTION:Industrie-Symposien auf dem 107. Deutscher Röntgenkongress (R
 ÖKO 2026)\n\nProgramm:\n\n- Vortrag (Industrie)\n- Diskussion\n\nWeitere I
 nformationen: https://roentgenkongress.de/veranstaltung/fujifilm-healthcare
 -deutschland-gmbh-impulse-fuer-die-investition-in-ein-offenes-mrt/\n
LOCATION:IND-Forum\, Congress Center Leipzig \, Leipzig
BEGIN:VALARM
TRIGGER:-PT15M
ACTION:DISPLAY
DESCRIPTION:Erinnerung
END:VALARM
COMMENT: (Ihre Notizen)
END:VEVENT
BEGIN:VTIMEZONE
TZID:Europe/Berlin
BEGIN:DAYLIGHT
TZOFFSETFROM:+0100
TZOFFSETTO:+0200
TZNAME:Daylight
DTSTART:19700329T020000
RRULE:FREQ=YEARLY;BYMONTH=3;BYDAY=-1SU
END:DAYLIGHT
BEGIN:STANDARD
TZOFFSETFROM:+0200
TZOFFSETTO:+0100
TZNAME:Standard
DTSTART:19701025T030000
RRULE:FREQ=YEARLY;BYMONTH=10;BYDAY=-1SU
END:STANDARD
END:VTIMEZONE
END:VCALENDAR
