BEGIN:VCALENDAR
VERSION:2.0
PRODID:-//urbanstudio//ICS Generator//EN
CALSCALE:GREGORIAN
METHOD:PUBLISH
BEGIN:VEVENT
UID:4e95c030-cf15-1d2e-5530-ef04f3f43a03
DTSTAMP:20260425T143632Z
SEQUENCE:0
SUMMARY:Industrie-Workshop - GE Healthcare GmbH: Heart Matters: Ihr interak
 tiver Weg vom Scan zur Diagnose
DTSTART;TZID=Europe/Berlin:20260514T143000
DTEND;TZID=Europe/Berlin:20260514T153000
DESCRIPTION:Industrie-Workshop auf dem 107. Deutscher Röntgenkongress (RÖ
 KO 2026)\n\nWeitere Informationen: https://roentgenkongress.de/veranstaltun
 g/ge-healthcare-gmbh-heart-matters-ihr-interaktiver-weg-vom-scan-zur-diagno
 se/\n
LOCATION:M 8\, Congress Center Leipzig \, Leipzig
BEGIN:VALARM
TRIGGER:-PT15M
ACTION:DISPLAY
DESCRIPTION:Erinnerung
END:VALARM
COMMENT: (Ihre Notizen)
END:VEVENT
BEGIN:VTIMEZONE
TZID:Europe/Berlin
BEGIN:DAYLIGHT
TZOFFSETFROM:+0100
TZOFFSETTO:+0200
TZNAME:Daylight
DTSTART:19700329T020000
RRULE:FREQ=YEARLY;BYMONTH=3;BYDAY=-1SU
END:DAYLIGHT
BEGIN:STANDARD
TZOFFSETFROM:+0200
TZOFFSETTO:+0100
TZNAME:Standard
DTSTART:19701025T030000
RRULE:FREQ=YEARLY;BYMONTH=10;BYDAY=-1SU
END:STANDARD
END:VTIMEZONE
END:VCALENDAR
