BEGIN:VCALENDAR
VERSION:2.0
PRODID:-//urbanstudio//ICS Generator//EN
CALSCALE:GREGORIAN
METHOD:PUBLISH
BEGIN:VEVENT
UID:4e95c587-1cfb-6b31-df7f-2ddaecfbafe5
DTSTAMP:20260425T142001Z
SEQUENCE:0
SUMMARY:Industrie-Workshop - GE Healthcare GmbH: MR Workflow-Innovation - g
 erüstet für die GOÄ Reform und darüber hinaus
DTSTART;TZID=Europe/Berlin:20260514T160000
DTEND;TZID=Europe/Berlin:20260514T170000
DESCRIPTION:Industrie-Workshop auf dem 107. Deutscher Röntgenkongress (RÖ
 KO 2026)\n\nWeitere Informationen: https://roentgenkongress.de/veranstaltun
 g/ge-healthcare-gmbh-mr-workflow-innovation-geruestet-fuer-die-goae-reform-
 und-darueber-hinaus/\n
LOCATION:M 8\, Congress Center Leipzig \, Leipzig
BEGIN:VALARM
TRIGGER:-PT15M
ACTION:DISPLAY
DESCRIPTION:Erinnerung
END:VALARM
COMMENT: (Ihre Notizen)
END:VEVENT
BEGIN:VTIMEZONE
TZID:Europe/Berlin
BEGIN:DAYLIGHT
TZOFFSETFROM:+0100
TZOFFSETTO:+0200
TZNAME:Daylight
DTSTART:19700329T020000
RRULE:FREQ=YEARLY;BYMONTH=3;BYDAY=-1SU
END:DAYLIGHT
BEGIN:STANDARD
TZOFFSETFROM:+0200
TZOFFSETTO:+0100
TZNAME:Standard
DTSTART:19701025T030000
RRULE:FREQ=YEARLY;BYMONTH=10;BYDAY=-1SU
END:STANDARD
END:VTIMEZONE
END:VCALENDAR
