BEGIN:VCALENDAR
VERSION:2.0
PRODID:-//urbanstudio//ICS Generator//EN
CALSCALE:GREGORIAN
METHOD:PUBLISH
BEGIN:VEVENT
UID:2e6b8c94-ee8a-b2a0-50c8-215bf4d25f3e
DTSTAMP:20260421T083844Z
SEQUENCE:0
SUMMARY:SP 201 - Sprechstunde Niederlassung - Facharzt ohne Grenzen in der 
 ambulanten Versorgung?
DTSTART;TZID=Europe/Berlin:20260514T083000
DTEND;TZID=Europe/Berlin:20260514T093000
DESCRIPTION:Veranstaltung des 107. Deutscher Röntgenkongress (RÖKO 2026)\
 n\nProgramm:\n\n- Best practice: als Arzt/Ärztin aus dem Ausland\n- How to
  do: Tutoring/Mentoring ausländischer Kolleg*innen\n- Best practice: in de
 r Weiterbildung\n- How to do: Weiterbildung in einer Praxis \n- Best practi
 ce: physician assistance\n- Diskussion\n\nWeitere Informationen: https://ro
 entgenkongress.de/veranstaltung/sprechstunde-niederlassung-facharzt-ohne-gr
 enzen-in-der-ambulanten-versorgung/\n
LOCATION:Vortragsbereich\, Congress Center Leipzig \, Leipzig
BEGIN:VALARM
TRIGGER:-PT15M
ACTION:DISPLAY
DESCRIPTION:Erinnerung
END:VALARM
COMMENT: (Ihre Notizen)
END:VEVENT
BEGIN:VTIMEZONE
TZID:Europe/Berlin
BEGIN:DAYLIGHT
TZOFFSETFROM:+0100
TZOFFSETTO:+0200
TZNAME:Daylight
DTSTART:19700329T020000
RRULE:FREQ=YEARLY;BYMONTH=3;BYDAY=-1SU
END:DAYLIGHT
BEGIN:STANDARD
TZOFFSETFROM:+0200
TZOFFSETTO:+0100
TZNAME:Standard
DTSTART:19701025T030000
RRULE:FREQ=YEARLY;BYMONTH=10;BYDAY=-1SU
END:STANDARD
END:VTIMEZONE
END:VCALENDAR
