BEGIN:VCALENDAR
VERSION:2.0
PRODID:-//urbanstudio//ICS Generator//EN
CALSCALE:GREGORIAN
METHOD:PUBLISH
BEGIN:VEVENT
UID:4e7a4b8d-ec5d-5959-7584-d1ba0813bc5a
DTSTAMP:20260425T143413Z
SEQUENCE:0
SUMMARY:Industrie-Symposien - United Imaging Healthcare Europe B.V.: Wenn B
 ewegung zu Information wird: Dynamische Bildgebung mit CT & MRT der nächst
 en Generation
DTSTART;TZID=Europe/Berlin:20260513T123000
DTEND;TZID=Europe/Berlin:20260513T133000
DESCRIPTION:Industrie-Symposien auf dem 107. Deutscher Röntgenkongress (R
 ÖKO 2026)\n\nProgramm:\n\n- Begrüßung\n- Vortrag (Industrie)\n- Vortrag 
 (Industrie)\n- Diskussion\n\nWeitere Informationen: https://roentgenkongres
 s.de/veranstaltung/united-imaging-healthcare-europe-bv-wenn-bewegung-zu-inf
 ormation-wird-dynamische-bildgebung-mit-ct-mrt-der-naechsten-generation/\n
LOCATION:Saal 5\, Congress Center Leipzig \, Leipzig
BEGIN:VALARM
TRIGGER:-PT15M
ACTION:DISPLAY
DESCRIPTION:Erinnerung
END:VALARM
COMMENT: (Ihre Notizen)
END:VEVENT
BEGIN:VTIMEZONE
TZID:Europe/Berlin
BEGIN:DAYLIGHT
TZOFFSETFROM:+0100
TZOFFSETTO:+0200
TZNAME:Daylight
DTSTART:19700329T020000
RRULE:FREQ=YEARLY;BYMONTH=3;BYDAY=-1SU
END:DAYLIGHT
BEGIN:STANDARD
TZOFFSETFROM:+0200
TZOFFSETTO:+0100
TZNAME:Standard
DTSTART:19701025T030000
RRULE:FREQ=YEARLY;BYMONTH=10;BYDAY=-1SU
END:STANDARD
END:VTIMEZONE
END:VCALENDAR
